BEGIN:VCALENDAR
VERSION:2.0
PRODID:-//The Royal Scottish Pipe Band Association Northern Ireland Branch - ECPv6.15.14//NONSGML v1.0//EN
CALSCALE:GREGORIAN
METHOD:PUBLISH
X-ORIGINAL-URL:https://rspbani.org
X-WR-CALDESC:Events for The Royal Scottish Pipe Band Association Northern Ireland Branch
REFRESH-INTERVAL;VALUE=DURATION:PT1H
X-Robots-Tag:noindex
X-PUBLISHED-TTL:PT1H
BEGIN:VTIMEZONE
TZID:UTC
BEGIN:STANDARD
TZOFFSETFROM:+0000
TZOFFSETTO:+0000
TZNAME:UTC
DTSTART:20220101T000000
END:STANDARD
END:VTIMEZONE
BEGIN:VEVENT
DTSTART;TZID=UTC:20230902T123000
DTEND;TZID=UTC:20230902T160000
DTSTAMP:20260420T143225
CREATED:20230802T150053Z
LAST-MODIFIED:20230824T183906Z
UID:10361-1693657800-1693670400@rspbani.org
SUMMARY:UK (Adult) Solo Drumming 2023
DESCRIPTION:Syllabus is available here\nUK (Adult) Solo Drumming 2023 – Draw\nClick here to access document\nUnable to display PDF file. Download instead.  \nMap to Greystone Primary School\, Antrim\nClick here to access document\nUnable to display PDF file. Download instead. 
URL:https://rspbani.org/event/uk-adult-solo-drumming-2023/
LOCATION:Greystone Primary School\, 53 Greystone Rd\, Antrim\, BT41 1JW
ATTACH;FMTTYPE=image/jpeg:https://rspbani.org/wp-content/uploads/2023/08/Solo_Drumming_2023_sq-scaled.jpg
ORGANIZER;CN="Patricia Pedlow":MAILTO:patricia.pedlow@rspbani.org
END:VEVENT
BEGIN:VEVENT
DTSTART;TZID=UTC:20230916T100000
DTEND;TZID=UTC:20230916T180000
DTSTAMP:20260420T143225
CREATED:20230802T135236Z
LAST-MODIFIED:20240513T114629Z
UID:10365-1694858400-1694887200@rspbani.org
SUMMARY:All Ireland & JAC Piping & Drumming Solos 2023
DESCRIPTION:All Ireland Solo Piping and Drumming Championships 2023 Syllabus \nJoint Association Council Solo Piping and Drumming Contest 2023 Syllabus \nEntries close: Monday 28th August 2023 \nSee results here on IPBA website
URL:https://rspbani.org/event/all-ireland-jac-piping-drumming-solos-2023/
LOCATION:Lusk National School\, Lusk\, Dublin\, K45CX43\, Ireland
ATTACH;FMTTYPE=image/png:https://rspbani.org/wp-content/uploads/2023/08/IPBA_All-Ireland-and-JAC-Solos-2023-A4.png
ORGANIZER;CN="IPBA Secretary":MAILTO:sheehanjohn54@gmail.com
END:VEVENT
END:VCALENDAR