BEGIN:VCALENDAR
VERSION:2.0
PRODID:-//The Royal Scottish Pipe Band Association Northern Ireland Branch - ECPv6.15.14//NONSGML v1.0//EN
CALSCALE:GREGORIAN
METHOD:PUBLISH
X-ORIGINAL-URL:https://rspbani.org
X-WR-CALDESC:Events for The Royal Scottish Pipe Band Association Northern Ireland Branch
REFRESH-INTERVAL;VALUE=DURATION:PT1H
X-Robots-Tag:noindex
X-PUBLISHED-TTL:PT1H
BEGIN:VTIMEZONE
TZID:UTC
BEGIN:STANDARD
TZOFFSETFROM:+0000
TZOFFSETTO:+0000
TZNAME:UTC
DTSTART:20220101T000000
END:STANDARD
END:VTIMEZONE
BEGIN:VEVENT
DTSTART;TZID=UTC:20231125T110000
DTEND;TZID=UTC:20231125T170000
DTSTAMP:20260420T130409
CREATED:20231023T163759Z
LAST-MODIFIED:20231023T163845Z
UID:10516-1700910000-1700931600@rspbani.org
SUMMARY:RSPBANI Branch AGM
DESCRIPTION:The RSPBANI Branch AGM will take place on Saturday 25th November at 11am in the Methodist Church Hall\, 28 Loy St\, Cookstown \nReminder: Nominations for election and Notices of Motion/Changes to Rules must be submitted to the secretary by 11am on Saturday 4th November
URL:https://rspbani.org/event/rspbani-branch-agm/
LOCATION:Cookstown Methodist Church Hall\, 28 Loy St\, Cookstown\, BT80 8PE
ATTACH;FMTTYPE=image/png:https://rspbani.org/wp-content/uploads/2022/10/RSPBANI-AGM.png
ORGANIZER;CN="RSPBANI":MAILTO:contests@rspbani.org
END:VEVENT
END:VCALENDAR