BEGIN:VCALENDAR
VERSION:2.0
PRODID:-//The Royal Scottish Pipe Band Association Northern Ireland Branch - ECPv6.15.14//NONSGML v1.0//EN
CALSCALE:GREGORIAN
METHOD:PUBLISH
X-ORIGINAL-URL:https://rspbani.org
X-WR-CALDESC:Events for The Royal Scottish Pipe Band Association Northern Ireland Branch
REFRESH-INTERVAL;VALUE=DURATION:PT1H
X-Robots-Tag:noindex
X-PUBLISHED-TTL:PT1H
BEGIN:VTIMEZONE
TZID:UTC
BEGIN:STANDARD
TZOFFSETFROM:+0000
TZOFFSETTO:+0000
TZNAME:UTC
DTSTART:20220101T000000
END:STANDARD
END:VTIMEZONE
BEGIN:VEVENT
DTSTART;TZID=UTC:20231108T190000
DTEND;TZID=UTC:20231108T210000
DTSTAMP:20260420T130335
CREATED:20231023T163122Z
LAST-MODIFIED:20231023T163122Z
UID:10506-1699470000-1699477200@rspbani.org
SUMMARY:Mid Ulster Section AGM
DESCRIPTION:The Mid Ulster Section AGM will take place on Wednesday 8th November at 7pm in the Royal Hotel\, Cookstown \nIt is important that bands are represented at the AGM to protect the future of the Mid Ulster contest
URL:https://rspbani.org/event/mid-ulster-section-agm/
LOCATION:The Royal Hotel\, 64-72 Old Coagh Rd\, Cookstown\, BT80 8NG
ATTACH;FMTTYPE=image/png:https://rspbani.org/wp-content/uploads/2023/10/RSPBANI-MidUlster-AGM.png
ORGANIZER;CN="Mid Ulster Section":MAILTO:secretary@rspbani.org
END:VEVENT
END:VCALENDAR