BEGIN:VCALENDAR
VERSION:2.0
PRODID:-//The Royal Scottish Pipe Band Association Northern Ireland Branch - ECPv6.15.14//NONSGML v1.0//EN
CALSCALE:GREGORIAN
METHOD:PUBLISH
X-WR-CALNAME:The Royal Scottish Pipe Band Association Northern Ireland Branch
X-ORIGINAL-URL:https://rspbani.org
X-WR-CALDESC:Events for The Royal Scottish Pipe Band Association Northern Ireland Branch
REFRESH-INTERVAL;VALUE=DURATION:PT1H
X-Robots-Tag:noindex
X-PUBLISHED-TTL:PT1H
BEGIN:VTIMEZONE
TZID:Europe/Paris
BEGIN:DAYLIGHT
TZOFFSETFROM:+0100
TZOFFSETTO:+0200
TZNAME:CEST
DTSTART:20220327T010000
END:DAYLIGHT
BEGIN:STANDARD
TZOFFSETFROM:+0200
TZOFFSETTO:+0100
TZNAME:CET
DTSTART:20221030T010000
END:STANDARD
BEGIN:DAYLIGHT
TZOFFSETFROM:+0100
TZOFFSETTO:+0200
TZNAME:CEST
DTSTART:20230326T010000
END:DAYLIGHT
BEGIN:STANDARD
TZOFFSETFROM:+0200
TZOFFSETTO:+0100
TZNAME:CET
DTSTART:20231029T010000
END:STANDARD
BEGIN:DAYLIGHT
TZOFFSETFROM:+0100
TZOFFSETTO:+0200
TZNAME:CEST
DTSTART:20240331T010000
END:DAYLIGHT
BEGIN:STANDARD
TZOFFSETFROM:+0200
TZOFFSETTO:+0100
TZNAME:CET
DTSTART:20241027T010000
END:STANDARD
END:VTIMEZONE
BEGIN:VEVENT
DTSTART;TZID=Europe/Paris:20230701T100000
DTEND;TZID=Europe/Paris:20230701T180000
DTSTAMP:20260420T192911
CREATED:20230509T112705Z
LAST-MODIFIED:20230701T231419Z
UID:10124-1688205600-1688234400@rspbani.org
SUMMARY:All Ireland Pipe Band Championships 2023
DESCRIPTION:Closing date for entries: Monday 12th June 2023 \nPlaying Requirements\n\n\n\n\nGrade 1: \nMarch\, Strathspey and Reel (Max 4-parted tunes) & Medley (Submit 2)\n\n\nGrade 2: \nMarch\, Strathspey and Reel (Submit 2).\n\n\nGrade 3a: \nMedley.\n\n\nGrade 3b: \nMedley.\n\n\nGrade 4a: \nMarch\, Strathspey and Reel.\n\n\nGrade 4b: \nMarch Selection.\n\n\n\n\n\nSee here for results
URL:https://rspbani.org/event/all-ireland-pipe-band-championships-2023/
LOCATION:Ballymena Academy\, Ballymena Academy\, Ballymena\, United Kingdom
ATTACH;FMTTYPE=image/jpeg:https://rspbani.org/wp-content/uploads/2023/06/2023_AllIrelandB_sq_small1600.jpg
ORGANIZER;CN="Danielle McCartney":MAILTO:secretary@rspbani.org
END:VEVENT
END:VCALENDAR