BEGIN:VCALENDAR
VERSION:2.0
PRODID:-//The Royal Scottish Pipe Band Association Northern Ireland Branch - ECPv6.15.14//NONSGML v1.0//EN
CALSCALE:GREGORIAN
METHOD:PUBLISH
X-WR-CALNAME:The Royal Scottish Pipe Band Association Northern Ireland Branch
X-ORIGINAL-URL:https://rspbani.org
X-WR-CALDESC:Events for The Royal Scottish Pipe Band Association Northern Ireland Branch
REFRESH-INTERVAL;VALUE=DURATION:PT1H
X-Robots-Tag:noindex
X-PUBLISHED-TTL:PT1H
BEGIN:VTIMEZONE
TZID:Europe/Helsinki
BEGIN:DAYLIGHT
TZOFFSETFROM:+0200
TZOFFSETTO:+0300
TZNAME:EEST
DTSTART:20220327T010000
END:DAYLIGHT
BEGIN:STANDARD
TZOFFSETFROM:+0300
TZOFFSETTO:+0200
TZNAME:EET
DTSTART:20221030T010000
END:STANDARD
BEGIN:DAYLIGHT
TZOFFSETFROM:+0200
TZOFFSETTO:+0300
TZNAME:EEST
DTSTART:20230326T010000
END:DAYLIGHT
BEGIN:STANDARD
TZOFFSETFROM:+0300
TZOFFSETTO:+0200
TZNAME:EET
DTSTART:20231029T010000
END:STANDARD
BEGIN:DAYLIGHT
TZOFFSETFROM:+0200
TZOFFSETTO:+0300
TZNAME:EEST
DTSTART:20240331T010000
END:DAYLIGHT
BEGIN:STANDARD
TZOFFSETFROM:+0300
TZOFFSETTO:+0200
TZNAME:EET
DTSTART:20241027T010000
END:STANDARD
END:VTIMEZONE
BEGIN:VEVENT
DTSTART;TZID=Europe/Helsinki:20230603T100000
DTEND;TZID=Europe/Helsinki:20230603T180000
DTSTAMP:20260420T225607
CREATED:20230426T073553Z
LAST-MODIFIED:20230605T153212Z
UID:9989-1685786400-1685815200@rspbani.org
SUMMARY:Mid Ulster Pipe Band Championships 2023
DESCRIPTION:Playing Requirements\n\n\n\n\nGrade 1: \nMedley (Submit 2).\n\n\nGrade 2: \nMarch\, Strathspey and Reel (Submit 2).\n\n\nGrade 3a: \nMedley.\n\n\nGrade 3b: \nMedley.\n\n\nGrade 4a: \nMarch\, Strathspey and Reel.\n\n\nGrade 4b: \nMarch Selection.\n\n\n\nSee here for results
URL:https://rspbani.org/event/mid-ulster-pipe-band-championships-2023/
LOCATION:Cookstown High School\, Coolnafranky Demesne\, Cookstown\, Co. Tyrone\, BT80 8PQ
ATTACH;FMTTYPE=image/jpeg:https://rspbani.org/wp-content/uploads/2023/04/MidUlster.jpg
ORGANIZER;CN="Danielle McCartney":MAILTO:secretary@rspbani.org
END:VEVENT
END:VCALENDAR