BEGIN:VCALENDAR
VERSION:2.0
PRODID:-//The Royal Scottish Pipe Band Association Northern Ireland Branch - ECPv6.15.14//NONSGML v1.0//EN
CALSCALE:GREGORIAN
METHOD:PUBLISH
X-WR-CALNAME:The Royal Scottish Pipe Band Association Northern Ireland Branch
X-ORIGINAL-URL:https://rspbani.org
X-WR-CALDESC:Events for The Royal Scottish Pipe Band Association Northern Ireland Branch
REFRESH-INTERVAL;VALUE=DURATION:PT1H
X-Robots-Tag:noindex
X-PUBLISHED-TTL:PT1H
BEGIN:VTIMEZONE
TZID:UTC
BEGIN:STANDARD
TZOFFSETFROM:+0000
TZOFFSETTO:+0000
TZNAME:UTC
DTSTART:20220101T000000
END:STANDARD
END:VTIMEZONE
BEGIN:VEVENT
DTSTART;TZID=UTC:20230422T100000
DTEND;TZID=UTC:20230422T170000
DTSTAMP:20260421T060712
CREATED:20230225T144309Z
LAST-MODIFIED:20230423T082757Z
UID:9872-1682157600-1682182800@rspbani.org
SUMMARY:Ulster Solo Piping & Drumming Championships 2023
DESCRIPTION:Syllabus is available here\nUlster Solos 2023 – Piping Results\nClick here to access document \nUnable to display PDF file. Download instead.  \nUlster Solos 2023 – Drumming Results\nClick here to access document \nUnable to display PDF file. Download instead. 
URL:https://rspbani.org/event/ulster-solo-piping-drumming-championships-2023/
LOCATION:Lisnagarvey High School\, Warren Gardens\, Lisburn BT28 1HN\, Lisburn\, BT28 1HN\, United Kingdom
ATTACH;FMTTYPE=image/jpeg:https://rspbani.org/wp-content/uploads/2023/02/ulster_solos_2023_sq2000.jpg
ORGANIZER;CN="RSPBANI":MAILTO:contests@rspbani.org
END:VEVENT
END:VCALENDAR